BEGIN:VCALENDAR
VERSION:2.0
PRODID:-//Vouchers for Veterans//EN
BEGIN:VEVENT
UID:69e5e9fd59a02@www.vouchersforveterans.org
DTSTAMP:20260420T085525Z
DTSTART:20260404T100000
DTEND:20260404T130000
SUMMARY:Stratham Farmers&#8217\; Market
DESCRIPTION:Get more info: https://www.vouchersforveterans.org/farmers-markets/stratham-farmers-market-2026-04-04/
LOCATION:100 Academic Way\, Stratham\, NH\, US
X-APPLE-STRUCTURED-LOCATION;VALUE=URI;X-ADDRESS="100 Academic Way\, Stratham\, NH\, US";X-APPLE-RADIUS=141.1749368727725;X-TITLE=
END:VEVENT
END:VCALENDAR
