BEGIN:VCALENDAR
VERSION:2.0
PRODID:-//Vouchers for Veterans//EN
BEGIN:VEVENT
UID:69e5e8e8aab0d@www.vouchersforveterans.org
DTSTAMP:20260420T085048Z
DTSTART:20260321T100000
DTEND:20260321T140000
SUMMARY:Rollinsford Farmers&#8217\; Market
DESCRIPTION:Get more info: https://www.vouchersforveterans.org/farmers-markets/rollinsford-farmers-market-2026-03-21/
LOCATION:141 Rollins Rd\, Rollinsford\, NH\, US
X-APPLE-STRUCTURED-LOCATION;VALUE=URI;X-ADDRESS="141 Rollins Rd\, Rollinsford\, NH\, US";X-APPLE-RADIUS=141.1749368727725;X-TITLE=
END:VEVENT
END:VCALENDAR
